BEGIN:VCALENDAR
VERSION:2.0
PRODID:-//Dee Perconti - ECPv6.15.20//NONSGML v1.0//EN
CALSCALE:GREGORIAN
METHOD:PUBLISH
X-ORIGINAL-URL:https://deeperconti.com
X-WR-CALDESC:Events for Dee Perconti
REFRESH-INTERVAL;VALUE=DURATION:PT1H
X-Robots-Tag:noindex
X-PUBLISHED-TTL:PT1H
BEGIN:VTIMEZONE
TZID:America/New_York
BEGIN:DAYLIGHT
TZOFFSETFROM:-0500
TZOFFSETTO:-0400
TZNAME:EDT
DTSTART:20160313T070000
END:DAYLIGHT
BEGIN:STANDARD
TZOFFSETFROM:-0400
TZOFFSETTO:-0500
TZNAME:EST
DTSTART:20161106T060000
END:STANDARD
BEGIN:DAYLIGHT
TZOFFSETFROM:-0500
TZOFFSETTO:-0400
TZNAME:EDT
DTSTART:20170312T070000
END:DAYLIGHT
BEGIN:STANDARD
TZOFFSETFROM:-0400
TZOFFSETTO:-0500
TZNAME:EST
DTSTART:20171105T060000
END:STANDARD
BEGIN:DAYLIGHT
TZOFFSETFROM:-0500
TZOFFSETTO:-0400
TZNAME:EDT
DTSTART:20180311T070000
END:DAYLIGHT
BEGIN:STANDARD
TZOFFSETFROM:-0400
TZOFFSETTO:-0500
TZNAME:EST
DTSTART:20181104T060000
END:STANDARD
END:VTIMEZONE
BEGIN:VTIMEZONE
TZID:America/New_York
BEGIN:DAYLIGHT
TZOFFSETFROM:-0500
TZOFFSETTO:-0400
TZNAME:EDT
DTSTART:20160313T070000
END:DAYLIGHT
BEGIN:STANDARD
TZOFFSETFROM:-0400
TZOFFSETTO:-0500
TZNAME:EST
DTSTART:20161106T060000
END:STANDARD
BEGIN:DAYLIGHT
TZOFFSETFROM:-0500
TZOFFSETTO:-0400
TZNAME:EDT
DTSTART:20170312T070000
END:DAYLIGHT
BEGIN:STANDARD
TZOFFSETFROM:-0400
TZOFFSETTO:-0500
TZNAME:EST
DTSTART:20171105T060000
END:STANDARD
BEGIN:DAYLIGHT
TZOFFSETFROM:-0500
TZOFFSETTO:-0400
TZNAME:EDT
DTSTART:20180311T070000
END:DAYLIGHT
BEGIN:STANDARD
TZOFFSETFROM:-0400
TZOFFSETTO:-0500
TZNAME:EST
DTSTART:20181104T060000
END:STANDARD
END:VTIMEZONE
BEGIN:VEVENT
DTSTART;TZID=America/New_York:20171021T173000
DTEND;TZID=America/New_York:20171021T203000
DTSTAMP:20260420T151341
CREATED:20171014T182052Z
LAST-MODIFIED:20171014T182908Z
UID:497-1508607000-1508617800@deeperconti.com
SUMMARY:Bella Unica 2nd Annual Art Show
DESCRIPTION:Sicilian Nights Art Show\nMy art will be displayed at the Bella Unica Annual Art Show. \nWe are grateful for all the friends and talented artists who have helped make Bella Unica a success. This event is for meeting\, sharing\, eating and getting your Holiday gifts from fellow talented artists and craftsman\, Be ready for fun and making new friends. \nAddress: 555 5th Ave NE\, St.Petersburg\, FL 33701 \nRSVP \n 
URL:https://deeperconti.com/event/bella-unica-2nd-annual-art-show/
LOCATION:Vinoy Place Social Room\, 555 5th Ave NE\, St. Petersburg\, FL\, 33701\, United States
ATTACH;FMTTYPE=image/jpeg:https://deeperconti.com/wp-content/uploads/Sicilian-Nights-FB-Event-02.jpg
END:VEVENT
BEGIN:VEVENT
DTSTART;TZID=America/New_York:20170812T170000
DTEND;TZID=America/New_York:20170812T210000
DTSTAMP:20260420T151341
CREATED:20170712T213057Z
LAST-MODIFIED:20170712T213316Z
UID:398-1502557200-1502571600@deeperconti.com
SUMMARY:August Art Event
DESCRIPTION:Come say Hi! Let’s talk about art\, inspiration and the ways we can support our creative community! \nADDRESS: 2145 1st Ave South. St Petersburg\, FL\nThe Mirella Cimato Gallery hours are 1:00 PM to 5:30 PM Monday through Friday and by appointment. Mirella Cimato and her husband Norm Smith are patrons and leaders in the St. Petersburg Opera Company.  A very successful artist herself\, Mirella encourages artists by having shows in her gallery every two months.  I will be present for the July Second Saturday Art Walks from  5:00 PM to 9:00 PM. A collection of my mixed media works will be on display for the two months. Each of my pieces has a story.  Come and talk with me as well as support the highly acclaimed St. Petersburg Opera Company.  A portion of the  art sales goes to promoting our fine Opera Company. \nAll Sales benefit the St. Petersburg Opera Company\, a 501c3  Non profit.
URL:https://deeperconti.com/event/august-art-event/
LOCATION:The Mirella Cimato Gallery\, 2145  1st Ave South\, St. Petersburg\, FL\, 33712\, United States
ATTACH;FMTTYPE=image/jpeg:https://deeperconti.com/wp-content/uploads/flowers-in-vase.jpg
END:VEVENT
BEGIN:VEVENT
DTSTART;TZID=America/New_York:20170708T170000
DTEND;TZID=America/New_York:20170708T210000
DTSTAMP:20260420T151341
CREATED:20170706T171516Z
LAST-MODIFIED:20170712T212828Z
UID:378-1499533200-1499547600@deeperconti.com
SUMMARY:July 8th Art Walk
DESCRIPTION:My art will remain in the second gallery room at Opera Central Mirella Cimato Gallery! Come say Hi! Let’s talk about art\, inspiration and the ways we can support our creative community! \nADDRESS: 2145 1st Ave South. St Petersburg\, FL\nThe Mirella Cimato Gallery hours are 1:00 PM to 5:30 PM Monday through Friday and by appointment. Mirella Cimato and her husband Norm Smith are patrons and leaders in the St. Petersburg Opera Company.  A very successful artist herself\, Mirella encourages artists by having shows in her gallery every two months.  I will be present for the July Second Saturday Art Walks from  5:00 PM to 9:00 PM. A collection of my mixed media works will be on display for the two months. Each of my pieces has a story.  Come and talk with me as well as support the highly acclaimed St. Petersburg Opera Company.  A portion of the  art sales goes to promoting our fine Opera Company. \nAll Sales benefit the St. Petersburg Opera Company\, a 501c3  Non profit.
URL:https://deeperconti.com/event/july-8th-art-walk/
LOCATION:FL
ATTACH;FMTTYPE=image/jpeg:https://deeperconti.com/wp-content/uploads/010-sfw-dt.jpg
END:VEVENT
BEGIN:VEVENT
DTSTART;TZID=America/New_York:20170610T170000
DTEND;TZID=America/New_York:20170610T210000
DTSTAMP:20260420T151341
CREATED:20170524T153758Z
LAST-MODIFIED:20170605T195204Z
UID:370-1497114000-1497128400@deeperconti.com
SUMMARY:Second Saturday Art Walks
DESCRIPTION:The Mirella Cimato Gallery at the St. Petersburg Opera Company is presenting DUETTO.  Duet of mixed media paintings by Dee Perconti and sculptures by Linda Roberts. \n \nThe Mirella Cimato Gallery hours are 1:00 PM to 5:30 PM Monday through Friday and by appointment. Mirella Cimato and her husband Norm Smith are patrons and leaders in the St. Petersburg Opera Company.  A very successful artist herself\, Mirella encourages artists by having shows in her gallery every two months.  I will be present for the May and June Second Saturday Art Walks from  5:00 PM to 9:00 PM. A collection of  26 of my mixed media works will be on display for the two months. Each of my pieces has a story.  Come and talk with me as well as support the highly acclaimed St. Petersburg Opera Company.  A portion of the  art sales goes to promoting our fine Opera Company.  \nAll Sales benefit the St. Petersburg Opera Company\, a 501c3  Non profit.
URL:https://deeperconti.com/event/second-saturday-art-walks/
LOCATION:FL
ATTACH;FMTTYPE=image/jpeg:https://deeperconti.com/wp-content/uploads/Art-Walks.jpg
END:VEVENT
BEGIN:VEVENT
DTSTART;TZID=America/New_York:20170513T170000
DTEND;TZID=America/New_York:20170513T210000
DTSTAMP:20260420T151341
CREATED:20170307T002132Z
LAST-MODIFIED:20170308T194049Z
UID:191-1494694800-1494709200@deeperconti.com
SUMMARY:DUETTO at The St. Petersburg Opera Company
DESCRIPTION:The Mirella Cimato Gallery at the St. Petersburg Opera Company is presenting DUETTO.  Duet of mixed media paintings by Dee Perconti and sculptures by Linda Roberts. \n \nThe Mirella Cimato Gallery hours are 1:00 PM to 5:30 PM Monday through Friday and by appointment. Mirella Cimato and her husband Norm Smith are patrons and leaders in the St. Petersburg Opera Company.  A very successful artist herself\, Mirella encourages artists by having shows in her gallery every two months.  I will be present for the May and June Second Saturday Art Walks from  5:00 PM to 9:00 PM. A collection of  26 of my mixed media works will be on display for the two months. Each of my pieces has a story.  Come and talk with me as well as support the highly acclaimed St. Petersburg Opera Company.  A portion of the  art sales goes to promoting our fine Opera Company.  \n 
URL:https://deeperconti.com/event/duetto-at-the-st-petersburg-opera-company/
LOCATION:The Mirella Cimato Gallery\, 2145  1st Ave South\, St. Petersburg\, FL\, 33712\, United States
ATTACH;FMTTYPE=image/jpeg:https://deeperconti.com/wp-content/uploads/Show-at-opera.jpg
END:VEVENT
END:VCALENDAR